BEGIN:VCALENDAR
VERSION:2.0
PRODID:-//Jungschar Buchs-Otelfingen - ECPv6.15.20//NONSGML v1.0//EN
CALSCALE:GREGORIAN
METHOD:PUBLISH
X-ORIGINAL-URL:https://www.jungschar-buchs-otelfingen.ch
X-WR-CALDESC:Veranstaltungen für Jungschar Buchs-Otelfingen
REFRESH-INTERVAL;VALUE=DURATION:PT1H
X-Robots-Tag:noindex
X-PUBLISHED-TTL:PT1H
BEGIN:VTIMEZONE
TZID:Europe/Zurich
BEGIN:DAYLIGHT
TZOFFSETFROM:+0100
TZOFFSETTO:+0200
TZNAME:CEST
DTSTART:20240331T010000
END:DAYLIGHT
BEGIN:STANDARD
TZOFFSETFROM:+0200
TZOFFSETTO:+0100
TZNAME:CET
DTSTART:20241027T010000
END:STANDARD
BEGIN:DAYLIGHT
TZOFFSETFROM:+0100
TZOFFSETTO:+0200
TZNAME:CEST
DTSTART:20250330T010000
END:DAYLIGHT
BEGIN:STANDARD
TZOFFSETFROM:+0200
TZOFFSETTO:+0100
TZNAME:CET
DTSTART:20251026T010000
END:STANDARD
BEGIN:DAYLIGHT
TZOFFSETFROM:+0100
TZOFFSETTO:+0200
TZNAME:CEST
DTSTART:20260329T010000
END:DAYLIGHT
BEGIN:STANDARD
TZOFFSETFROM:+0200
TZOFFSETTO:+0100
TZNAME:CET
DTSTART:20261025T010000
END:STANDARD
BEGIN:DAYLIGHT
TZOFFSETFROM:+0100
TZOFFSETTO:+0200
TZNAME:CEST
DTSTART:20270328T010000
END:DAYLIGHT
BEGIN:STANDARD
TZOFFSETFROM:+0200
TZOFFSETTO:+0100
TZNAME:CET
DTSTART:20271031T010000
END:STANDARD
END:VTIMEZONE
BEGIN:VEVENT
DTSTART;TZID=Europe/Zurich:20260411T140000
DTEND;TZID=Europe/Zurich:20260411T170000
DTSTAMP:20260424T175156
CREATED:20260203T071155Z
LAST-MODIFIED:20260203T071155Z
UID:8517-1775916000-1775926800@www.jungschar-buchs-otelfingen.ch
SUMMARY:Isbärli Buchs- Farmyschlumpf (Petermoos\, Drisglerstrasse 3)
DESCRIPTION:
URL:https://www.jungschar-buchs-otelfingen.ch/event/isbaerli-buchs-farmyschlumpf-petermoos-drisglerstrasse-3/
END:VEVENT
BEGIN:VEVENT
DTSTART;TZID=Europe/Zurich:20260411T140000
DTEND;TZID=Europe/Zurich:20260411T170000
DTSTAMP:20260424T175156
CREATED:20260117T135610Z
LAST-MODIFIED:20260117T140059Z
UID:8122-1775916000-1775926800@www.jungschar-buchs-otelfingen.ch
SUMMARY:Isbärli Otelfingen- Workshops
DESCRIPTION:
URL:https://www.jungschar-buchs-otelfingen.ch/event/isbaerli-otelfingen-workshops-2/
END:VEVENT
BEGIN:VEVENT
DTSTART;TZID=Europe/Zurich:20260411T140000
DTEND;TZID=Europe/Zurich:20260411T170000
DTSTAMP:20260424T175156
CREATED:20260117T102004Z
LAST-MODIFIED:20260117T102647Z
UID:8078-1775916000-1775926800@www.jungschar-buchs-otelfingen.ch
SUMMARY:Panda Buchs- Master Chef (Petermoos\, Drisglerstrasse 3)
DESCRIPTION:
URL:https://www.jungschar-buchs-otelfingen.ch/event/panda-buchs-master-chef-petermoos-drisglerstrasse-3/
END:VEVENT
BEGIN:VEVENT
DTSTART;TZID=Europe/Zurich:20260411T140000
DTEND;TZID=Europe/Zurich:20260411T170000
DTSTAMP:20260424T175156
CREATED:20260106T124208Z
LAST-MODIFIED:20260408T065743Z
UID:8049-1775916000-1775926800@www.jungschar-buchs-otelfingen.ch
SUMMARY:Panda Otelfingen - Diebe im Olymp
DESCRIPTION:Freut euch auf einen actionreichen Nachmittag im Wald. Wir treffen uns wie üblicherweise um 14:00 beim Sekundarschulhaus Otelfingen.
URL:https://www.jungschar-buchs-otelfingen.ch/event/panda-otelfingen-diebe-im-olymp/
END:VEVENT
BEGIN:VEVENT
DTSTART;TZID=Europe/Zurich:20260410T190000
DTEND;TZID=Europe/Zurich:20260410T220000
DTSTAMP:20260424T175156
CREATED:20260117T113542Z
LAST-MODIFIED:20260117T113542Z
UID:8102-1775847600-1775858400@www.jungschar-buchs-otelfingen.ch
SUMMARY:Grizzly- 🐺🌕😰(Neuland\, Wüeristrasse 6)
DESCRIPTION:
URL:https://www.jungschar-buchs-otelfingen.ch/event/grizzly-%f0%9f%90%ba%f0%9f%8c%95%f0%9f%98%b0neuland-wueeristrasse-6/
END:VEVENT
BEGIN:VEVENT
DTSTART;TZID=Europe/Zurich:20260328T140000
DTEND;TZID=Europe/Zurich:20260328T170000
DTSTAMP:20260424T175156
CREATED:20260203T071105Z
LAST-MODIFIED:20260203T071105Z
UID:8515-1774706400-1774717200@www.jungschar-buchs-otelfingen.ch
SUMMARY:Isbärli Buchs- Tarzanschlumpf (Petermoos\, Drisglerstrasse 3)
DESCRIPTION:
URL:https://www.jungschar-buchs-otelfingen.ch/event/isbaerli-buchs-tarzanschlumpf-petermoos-drisglerstrasse-3/
END:VEVENT
BEGIN:VEVENT
DTSTART;TZID=Europe/Zurich:20260328T140000
DTEND;TZID=Europe/Zurich:20260328T170000
DTSTAMP:20260424T175156
CREATED:20260117T135516Z
LAST-MODIFIED:20260117T135516Z
UID:8120-1774706400-1774717200@www.jungschar-buchs-otelfingen.ch
SUMMARY:Isbärli Otelfingen- Spiel und Spass
DESCRIPTION:
URL:https://www.jungschar-buchs-otelfingen.ch/event/isbaerli-otelfingen-spiel-und-spass/
END:VEVENT
BEGIN:VEVENT
DTSTART;TZID=Europe/Zurich:20260328T140000
DTEND;TZID=Europe/Zurich:20260328T170000
DTSTAMP:20260424T175156
CREATED:20260117T101832Z
LAST-MODIFIED:20260117T101832Z
UID:8076-1774706400-1774717200@www.jungschar-buchs-otelfingen.ch
SUMMARY:Panda Buchs- Schnapp mich? (Bahnhof Buchs)
DESCRIPTION:
URL:https://www.jungschar-buchs-otelfingen.ch/event/panda-buchs-schnapp-mich-bahnhof-buchs/
END:VEVENT
BEGIN:VEVENT
DTSTART;TZID=Europe/Zurich:20260328T080000
DTEND;TZID=Europe/Zurich:20260328T170000
DTSTAMP:20260424T175156
CREATED:20260106T124114Z
LAST-MODIFIED:20260327T100017Z
UID:8047-1774684800-1774717200@www.jungschar-buchs-otelfingen.ch
SUMMARY:Panda Otelfingen - Kleider machen Leute (TP: Bahnhof Buchs)
DESCRIPTION:Wir treffen uns am Bahnhof Buchs und gehen um 14:07 gelich auf den Zug. Seid also bitte pünktlich. Zieht genügend warme Sachen an\, sodass ihr auch einen längeren Moment draussen seid könnt.\nMeldet euch bitte per Whatsapp\, Threema oder SMS beim Teamleiter (075 417 31 23)\, falls ihr als neue Person kommen wollt.
URL:https://www.jungschar-buchs-otelfingen.ch/event/panda-otelfingen-kleider-machen-leute/
END:VEVENT
BEGIN:VEVENT
DTSTART;TZID=Europe/Zurich:20260327T183000
DTEND;TZID=Europe/Zurich:20260327T213000
DTSTAMP:20260424T175156
CREATED:20260117T113342Z
LAST-MODIFIED:20260117T113342Z
UID:8100-1774636200-1774647000@www.jungschar-buchs-otelfingen.ch
SUMMARY:Grizzly- 🥘🧂🧑‍🍳(18.30 Uhr- 21.30 Uhr\, Neuland\, Wüeristrasse 6)
DESCRIPTION:
URL:https://www.jungschar-buchs-otelfingen.ch/event/grizzly-%f0%9f%a5%98%f0%9f%a7%82%f0%9f%a7%91%f0%9f%8d%b318-30-uhr-21-30-uhr-neuland-wueeristrasse-6/
END:VEVENT
BEGIN:VEVENT
DTSTART;TZID=Europe/Zurich:20260321T140000
DTEND;TZID=Europe/Zurich:20260321T170000
DTSTAMP:20260424T175156
CREATED:20260203T071007Z
LAST-MODIFIED:20260203T071007Z
UID:8513-1774101600-1774112400@www.jungschar-buchs-otelfingen.ch
SUMMARY:Isbärli Buchs- Bastelschlumpf (Petermoos\, Drisglerstrasse 3)
DESCRIPTION:
URL:https://www.jungschar-buchs-otelfingen.ch/event/isbaerli-buchs-bastelschlumpf-petermoos-drisglerstrasse-3/
END:VEVENT
BEGIN:VEVENT
DTSTART;TZID=Europe/Zurich:20260321T140000
DTEND;TZID=Europe/Zurich:20260321T170000
DTSTAMP:20260424T175156
CREATED:20260117T135408Z
LAST-MODIFIED:20260117T135408Z
UID:8118-1774101600-1774112400@www.jungschar-buchs-otelfingen.ch
SUMMARY:Isbärli Otelfingen- Film gnüsse
DESCRIPTION:
URL:https://www.jungschar-buchs-otelfingen.ch/event/isbaerli-otelfingen-film-gnuesse/
END:VEVENT
BEGIN:VEVENT
DTSTART;TZID=Europe/Zurich:20260321T140000
DTEND;TZID=Europe/Zurich:20260321T170000
DTSTAMP:20260424T175157
CREATED:20260117T100929Z
LAST-MODIFIED:20260117T101219Z
UID:8072-1774101600-1774112400@www.jungschar-buchs-otelfingen.ch
SUMMARY:Panda Buchs- Fluffy (Petermoos\, Drisglerstrasse 3)
DESCRIPTION:
URL:https://www.jungschar-buchs-otelfingen.ch/event/panda-buchs-fluffy-petermoos-drisglerstrasse-3/
END:VEVENT
BEGIN:VEVENT
DTSTART;TZID=Europe/Zurich:20260321T080000
DTEND;TZID=Europe/Zurich:20260321T170000
DTSTAMP:20260424T175157
CREATED:20260106T124046Z
LAST-MODIFIED:20260106T124046Z
UID:8045-1774080000-1774112400@www.jungschar-buchs-otelfingen.ch
SUMMARY:Panda Otelfingen - Der goldene Kompass
DESCRIPTION:
URL:https://www.jungschar-buchs-otelfingen.ch/event/panda-otelfingen-der-goldene-kompass/
END:VEVENT
BEGIN:VEVENT
DTSTART;TZID=Europe/Zurich:20260320T190000
DTEND;TZID=Europe/Zurich:20260320T220000
DTSTAMP:20260424T175157
CREATED:20260117T112635Z
LAST-MODIFIED:20260117T112635Z
UID:8098-1774033200-1774044000@www.jungschar-buchs-otelfingen.ch
SUMMARY:Grizzly- 🧭👣👀(Neuland\, Wüeristrasse 6)
DESCRIPTION:
URL:https://www.jungschar-buchs-otelfingen.ch/event/grizzly-%f0%9f%a7%ad%f0%9f%91%a3%f0%9f%91%80neuland-wueeristrasse-6/
END:VEVENT
BEGIN:VEVENT
DTSTART;TZID=Europe/Zurich:20260228T140000
DTEND;TZID=Europe/Zurich:20260228T170000
DTSTAMP:20260424T175157
CREATED:20260117T135330Z
LAST-MODIFIED:20260117T135330Z
UID:8116-1772287200-1772298000@www.jungschar-buchs-otelfingen.ch
SUMMARY:Isbärli Otelfingen- Jungschar im Radio (Infos folgen)
DESCRIPTION:
URL:https://www.jungschar-buchs-otelfingen.ch/event/isbaerli-otelfingen-jungschar-im-radio-infos-folgen/
END:VEVENT
BEGIN:VEVENT
DTSTART;TZID=Europe/Zurich:20260228T140000
DTEND;TZID=Europe/Zurich:20260228T170000
DTSTAMP:20260424T175157
CREATED:20260106T124020Z
LAST-MODIFIED:20260212T174839Z
UID:8043-1772287200-1772298000@www.jungschar-buchs-otelfingen.ch
SUMMARY:Panda Otelfingen - Liebe deinen Nächsten
DESCRIPTION:Wir treffen uns wie immer\, um 14.00 beim Sekundarschulhaus Otelfingen. Wir lernen etwas darüber\, wie wir unserem Nächsten helfen können. Wir werden mehrheitlich drinnen sein\, nehmt aber trotzdem warme Kleider mit\, wenn wir noch etwas rausgehen.
URL:https://www.jungschar-buchs-otelfingen.ch/event/panda-otelfingen-liebe-deinen-naechsten/
END:VEVENT
BEGIN:VEVENT
DTSTART;TZID=Europe/Zurich:20260207T140000
DTEND;TZID=Europe/Zurich:20260207T170000
DTSTAMP:20260424T175157
CREATED:20260203T070529Z
LAST-MODIFIED:20260203T070529Z
UID:8511-1770472800-1770483600@www.jungschar-buchs-otelfingen.ch
SUMMARY:Isbärli Buchs- Heftyschlumpf (Petermoos\, Drisglerstrasse 3)
DESCRIPTION:
URL:https://www.jungschar-buchs-otelfingen.ch/event/isbaerli-buchs-heftyschlumpf-petermoos-drisglerstrasse-3/
END:VEVENT
BEGIN:VEVENT
DTSTART;TZID=Europe/Zurich:20260207T140000
DTEND;TZID=Europe/Zurich:20260207T170000
DTSTAMP:20260424T175157
CREATED:20260117T100745Z
LAST-MODIFIED:20260117T101444Z
UID:8070-1770472800-1770483600@www.jungschar-buchs-otelfingen.ch
SUMMARY:Panda Buchs- Science Lab (Petermoos\, Drisglerstrasse 3)
DESCRIPTION:
URL:https://www.jungschar-buchs-otelfingen.ch/event/panda-buchs-science-lab-neuland-wueeristrasse-6/
END:VEVENT
BEGIN:VEVENT
DTSTART;TZID=Europe/Zurich:20260206T190000
DTEND;TZID=Europe/Zurich:20260206T220000
DTSTAMP:20260424T175157
CREATED:20260117T112216Z
LAST-MODIFIED:20260117T112752Z
UID:8094-1770404400-1770415200@www.jungschar-buchs-otelfingen.ch
SUMMARY:Grizzly- 🍸🎰🥳(Neuland\, Wüeristrasse 6)
DESCRIPTION:
URL:https://www.jungschar-buchs-otelfingen.ch/event/grizzly-%f0%9f%8d%b8%f0%9f%8e%b0%f0%9f%a5%b3neuland-wueeristrasse-6/
END:VEVENT
BEGIN:VEVENT
DTSTART;TZID=Europe/Zurich:20260124T140000
DTEND;TZID=Europe/Zurich:20260124T170000
DTSTAMP:20260424T175157
CREATED:20260117T135247Z
LAST-MODIFIED:20260117T135247Z
UID:8114-1769263200-1769274000@www.jungschar-buchs-otelfingen.ch
SUMMARY:Isbärli Otelfingen- Kugel rollen
DESCRIPTION:
URL:https://www.jungschar-buchs-otelfingen.ch/event/isbaerli-otelfingen-kugel-rollen/
END:VEVENT
BEGIN:VEVENT
DTSTART;TZID=Europe/Zurich:20260124T140000
DTEND;TZID=Europe/Zurich:20260124T170000
DTSTAMP:20260424T175157
CREATED:20260117T100655Z
LAST-MODIFIED:20260117T100655Z
UID:8068-1769263200-1769274000@www.jungschar-buchs-otelfingen.ch
SUMMARY:Panda Buchs- Zimtzauber (Neuland\, Wüeristrasse 6)
DESCRIPTION:
URL:https://www.jungschar-buchs-otelfingen.ch/event/panda-buchs-zimtzauber-neuland-wueeristrasse-6/
END:VEVENT
BEGIN:VEVENT
DTSTART;TZID=Europe/Zurich:20260124T140000
DTEND;TZID=Europe/Zurich:20260124T170000
DTSTAMP:20260424T175157
CREATED:20260106T123859Z
LAST-MODIFIED:20260106T123859Z
UID:8040-1769263200-1769274000@www.jungschar-buchs-otelfingen.ch
SUMMARY:Panda Otelfingen - Bob der Baumeister
DESCRIPTION:
URL:https://www.jungschar-buchs-otelfingen.ch/event/panda-otelfingen-bob-der-baumeister/
END:VEVENT
BEGIN:VEVENT
DTSTART;TZID=Europe/Zurich:20260123T190000
DTEND;TZID=Europe/Zurich:20260123T220000
DTSTAMP:20260424T175157
CREATED:20260117T112011Z
LAST-MODIFIED:20260117T112717Z
UID:8092-1769194800-1769205600@www.jungschar-buchs-otelfingen.ch
SUMMARY:Grizzly- ⛸️❄️🥶 (Neuland\, Wüeristrasse 6\, Fr.5.- mitnehmen)
DESCRIPTION:
URL:https://www.jungschar-buchs-otelfingen.ch/event/%e2%9b%b8%ef%b8%8f%e2%9d%84%ef%b8%8f%f0%9f%a5%b6-neuland-wueeristrasse-6-fr-5-mitnehmen/
END:VEVENT
BEGIN:VEVENT
DTSTART;VALUE=DATE:20260117
DTEND;VALUE=DATE:20260118
DTSTAMP:20260424T175157
CREATED:20260117T115222Z
LAST-MODIFIED:20260117T115222Z
UID:8111-1768608000-1768694399@www.jungschar-buchs-otelfingen.ch
SUMMARY:Isbärli\, Panda (Buchs und Otelfingen) und Grizzly- Spielplatzfest Neuland (Infos folgen)
DESCRIPTION:
URL:https://www.jungschar-buchs-otelfingen.ch/event/isbaerli-panda-buchs-und-otelfingen-und-grizzly-spielplatzfest-neuland-infos-folgen/
END:VEVENT
BEGIN:VEVENT
DTSTART;TZID=Europe/Zurich:20260110T140000
DTEND;TZID=Europe/Zurich:20260110T170000
DTSTAMP:20260424T175157
CREATED:20260106T123722Z
LAST-MODIFIED:20260106T123932Z
UID:8038-1768053600-1768064400@www.jungschar-buchs-otelfingen.ch
SUMMARY:Panda Otelfingen - Zeit für Fragen
DESCRIPTION:Wir treffen uns beim Sekundarschulhaus Otelfingen und haben eher einen gemütlicheren Nachmittag bei dem wir mehrheitlich drinnen sein werden. Nehmt trotzdem genügend warme Sachen mit\, falls wir mal noch nach draussen gehen.
URL:https://www.jungschar-buchs-otelfingen.ch/event/panda-otelfingen-zeit-fuer-fragen/
END:VEVENT
BEGIN:VEVENT
DTSTART;TZID=Europe/Zurich:20251213T140000
DTEND;TZID=Europe/Zurich:20251213T170000
DTSTAMP:20260424T175157
CREATED:20251101T093616Z
LAST-MODIFIED:20251101T093616Z
UID:8012-1765634400-1765645200@www.jungschar-buchs-otelfingen.ch
SUMMARY:Isbärli Buchs- Irrgartä (Neuland\, Wüeristrasse 6)
DESCRIPTION:
URL:https://www.jungschar-buchs-otelfingen.ch/event/isbaerli-buchs-irrgartae-neuland-wueeristrasse-6/
END:VEVENT
BEGIN:VEVENT
DTSTART;TZID=Europe/Zurich:20251213T140000
DTEND;TZID=Europe/Zurich:20251213T170000
DTSTAMP:20260424T175157
CREATED:20250901T123857Z
LAST-MODIFIED:20250901T123857Z
UID:7952-1765634400-1765645200@www.jungschar-buchs-otelfingen.ch
SUMMARY:Panda Buchs- gschmuech (Petermoos\, Drisglerstrasse 3)
DESCRIPTION:
URL:https://www.jungschar-buchs-otelfingen.ch/event/panda-buchs-gschmuech-petermoos-drisglerstrasse-3/
END:VEVENT
BEGIN:VEVENT
DTSTART;TZID=Europe/Zurich:20251213T140000
DTEND;TZID=Europe/Zurich:20251213T170000
DTSTAMP:20260424T175157
CREATED:20250901T122630Z
LAST-MODIFIED:20251211T210324Z
UID:7939-1765634400-1765645200@www.jungschar-buchs-otelfingen.ch
SUMMARY:Panda Otelfingen- Leitere
DESCRIPTION:Diesen Samstag müsst ihr eure Turnsachen mitnehmen. Wir werden einen coolen und sportlichen Nachmittag zusammen erleben!
URL:https://www.jungschar-buchs-otelfingen.ch/event/panda-otelfingen-leitere/
END:VEVENT
BEGIN:VEVENT
DTSTART;TZID=Europe/Zurich:20251213T140000
DTEND;TZID=Europe/Zurich:20251213T170000
DTSTAMP:20260424T175157
CREATED:20250812T125153Z
LAST-MODIFIED:20250812T125153Z
UID:7917-1765634400-1765645200@www.jungschar-buchs-otelfingen.ch
SUMMARY:Isbärli Otelfingen- Türkis wie Turnhallen (Sportkleider mitnehmen)
DESCRIPTION:
URL:https://www.jungschar-buchs-otelfingen.ch/event/isbaerli-otelfingen-tuerkis-wie-turnhallen-sportkleider-mitnehmen/
END:VEVENT
END:VCALENDAR