BEGIN:VCALENDAR
VERSION:2.0
PRODID:-//Jungschar Buchs-Otelfingen - ECPv6.15.20//NONSGML v1.0//EN
CALSCALE:GREGORIAN
METHOD:PUBLISH
X-ORIGINAL-URL:https://www.jungschar-buchs-otelfingen.ch
X-WR-CALDESC:Veranstaltungen für Jungschar Buchs-Otelfingen
REFRESH-INTERVAL;VALUE=DURATION:PT1H
X-Robots-Tag:noindex
X-PUBLISHED-TTL:PT1H
BEGIN:VTIMEZONE
TZID:Europe/Zurich
BEGIN:DAYLIGHT
TZOFFSETFROM:+0100
TZOFFSETTO:+0200
TZNAME:CEST
DTSTART:20250330T010000
END:DAYLIGHT
BEGIN:STANDARD
TZOFFSETFROM:+0200
TZOFFSETTO:+0100
TZNAME:CET
DTSTART:20251026T010000
END:STANDARD
BEGIN:DAYLIGHT
TZOFFSETFROM:+0100
TZOFFSETTO:+0200
TZNAME:CEST
DTSTART:20260329T010000
END:DAYLIGHT
BEGIN:STANDARD
TZOFFSETFROM:+0200
TZOFFSETTO:+0100
TZNAME:CET
DTSTART:20261025T010000
END:STANDARD
BEGIN:DAYLIGHT
TZOFFSETFROM:+0100
TZOFFSETTO:+0200
TZNAME:CEST
DTSTART:20270328T010000
END:DAYLIGHT
BEGIN:STANDARD
TZOFFSETFROM:+0200
TZOFFSETTO:+0100
TZNAME:CET
DTSTART:20271031T010000
END:STANDARD
END:VTIMEZONE
BEGIN:VEVENT
DTSTART;TZID=Europe/Zurich:20260508T190000
DTEND;TZID=Europe/Zurich:20260508T220000
DTSTAMP:20260424T174948
CREATED:20260117T113755Z
LAST-MODIFIED:20260117T113755Z
UID:8104-1778266800-1778277600@www.jungschar-buchs-otelfingen.ch
SUMMARY:Grizzly- 🌳🫕🍫(Petermoos\, Drisglerstrasse 3)
DESCRIPTION:
URL:https://www.jungschar-buchs-otelfingen.ch/event/grizzly-%f0%9f%8c%b3%f0%9f%ab%95%f0%9f%8d%abpetermoos-drisglerstrasse-3/
END:VEVENT
BEGIN:VEVENT
DTSTART;TZID=Europe/Zurich:20260509T080000
DTEND;TZID=Europe/Zurich:20260509T170000
DTSTAMP:20260424T174948
CREATED:20260106T124325Z
LAST-MODIFIED:20260106T124325Z
UID:8051-1778313600-1778346000@www.jungschar-buchs-otelfingen.ch
SUMMARY:Panda Otelfingen - Freier Fall
DESCRIPTION:
URL:https://www.jungschar-buchs-otelfingen.ch/event/panda-otelfingen-freier-fall/
END:VEVENT
BEGIN:VEVENT
DTSTART;TZID=Europe/Zurich:20260509T140000
DTEND;TZID=Europe/Zurich:20260509T170000
DTSTAMP:20260424T174948
CREATED:20260117T102047Z
LAST-MODIFIED:20260117T102047Z
UID:8080-1778335200-1778346000@www.jungschar-buchs-otelfingen.ch
SUMMARY:Panda Buchs- Wildnis (Petermoos\, Drisglerstrasse 3)
DESCRIPTION:
URL:https://www.jungschar-buchs-otelfingen.ch/event/panda-buchs-wildnis-petermoos-drisglerstrasse-3/
END:VEVENT
BEGIN:VEVENT
DTSTART;TZID=Europe/Zurich:20260509T140000
DTEND;TZID=Europe/Zurich:20260509T170000
DTSTAMP:20260424T174948
CREATED:20260117T135649Z
LAST-MODIFIED:20260117T135649Z
UID:8124-1778335200-1778346000@www.jungschar-buchs-otelfingen.ch
SUMMARY:Isbärli Otelfingen- Hüttebau
DESCRIPTION:
URL:https://www.jungschar-buchs-otelfingen.ch/event/isbaerli-otelfingen-huettebau/
END:VEVENT
BEGIN:VEVENT
DTSTART;TZID=Europe/Zurich:20260509T140000
DTEND;TZID=Europe/Zurich:20260509T170000
DTSTAMP:20260424T174948
CREATED:20260203T071244Z
LAST-MODIFIED:20260203T071244Z
UID:8519-1778335200-1778346000@www.jungschar-buchs-otelfingen.ch
SUMMARY:Isbärli Buchs- Tortischlumpf (Petermoos\, Drisglerstrasse 3)
DESCRIPTION:
URL:https://www.jungschar-buchs-otelfingen.ch/event/isbaerli-buchs-tortischlumpf-petermoos-drisglerstrasse-3/
END:VEVENT
BEGIN:VEVENT
DTSTART;VALUE=DATE:20260523
DTEND;VALUE=DATE:20260526
DTSTAMP:20260424T174948
CREATED:20260117T103001Z
LAST-MODIFIED:20260117T103001Z
UID:8086-1779494400-1779753599@www.jungschar-buchs-otelfingen.ch
SUMMARY:Isbärli\, Panda (Buchs und Otelfingen) und Grizzly- Pfila (Infos folgen)
DESCRIPTION:
URL:https://www.jungschar-buchs-otelfingen.ch/event/isbaerli-panda-buchs-und-otelfingen-und-grizzly-pfila-infos-folgen-2/
END:VEVENT
BEGIN:VEVENT
DTSTART;TZID=Europe/Zurich:20260612T190000
DTEND;TZID=Europe/Zurich:20260612T220000
DTSTAMP:20260424T174948
CREATED:20260117T114145Z
LAST-MODIFIED:20260117T114145Z
UID:8106-1781290800-1781301600@www.jungschar-buchs-otelfingen.ch
SUMMARY:Grizzly- 🏃‍♀️👮‍♂️🏐(Petermoos\, Drisglerstrasse 3)
DESCRIPTION:
URL:https://www.jungschar-buchs-otelfingen.ch/event/grizzly-%f0%9f%8f%83%e2%99%80%ef%b8%8f%f0%9f%91%ae%e2%99%82%ef%b8%8f%f0%9f%8f%90petermoos-drisglerstrasse-3/
END:VEVENT
BEGIN:VEVENT
DTSTART;TZID=Europe/Zurich:20260613T090000
DTEND;TZID=Europe/Zurich:20260613T160000
DTSTAMP:20260424T174948
CREATED:20260117T102258Z
LAST-MODIFIED:20260117T102258Z
UID:8082-1781341200-1781366400@www.jungschar-buchs-otelfingen.ch
SUMMARY:Panda Buchs- Echo (9.00 Uhr- 16.00 Uhr\, Petermoos\, Drisglerstrasse 3)
DESCRIPTION:
URL:https://www.jungschar-buchs-otelfingen.ch/event/panda-buchs-echo-9-00-uhr-16-00-uhr-petermoos-drisglerstrasse-3/
END:VEVENT
BEGIN:VEVENT
DTSTART;TZID=Europe/Zurich:20260613T140000
DTEND;TZID=Europe/Zurich:20260613T170000
DTSTAMP:20260424T174948
CREATED:20260203T071343Z
LAST-MODIFIED:20260203T071343Z
UID:8521-1781359200-1781370000@www.jungschar-buchs-otelfingen.ch
SUMMARY:Isbärli Buchs- Schlaubischlumpf (Petermoos\, Drisglerstrasse 3)
DESCRIPTION:
URL:https://www.jungschar-buchs-otelfingen.ch/event/isbaerli-buchs-schlaubischlumpf-petermoos-drisglerstrasse-3/
END:VEVENT
BEGIN:VEVENT
DTSTART;TZID=Europe/Zurich:20260613T193000
DTEND;TZID=Europe/Zurich:20260613T193000
DTSTAMP:20260424T174948
CREATED:20260106T124654Z
LAST-MODIFIED:20260106T124654Z
UID:8053-1781379000-1781379000@www.jungschar-buchs-otelfingen.ch
SUMMARY:Panda Otelfingen - Mitternachtskinder
DESCRIPTION:
URL:https://www.jungschar-buchs-otelfingen.ch/event/panda-otelfingen-mitternachtskinder/
END:VEVENT
BEGIN:VEVENT
DTSTART;TZID=Europe/Zurich:20260620T163000
DTEND;TZID=Europe/Zurich:20260620T193000
DTSTAMP:20260424T174948
CREATED:20260117T135810Z
LAST-MODIFIED:20260117T135810Z
UID:8126-1781973000-1781983800@www.jungschar-buchs-otelfingen.ch
SUMMARY:Isbärli Otelfingen- Vagabundenznacht (16.30 Uhr-19.30 Uhr)
DESCRIPTION:
URL:https://www.jungschar-buchs-otelfingen.ch/event/isbaerli-otelfingen-vagabundenznacht-16-30-uhr-19-30-uhr/
END:VEVENT
BEGIN:VEVENT
DTSTART;TZID=Europe/Zurich:20260703T190000
DTEND;TZID=Europe/Zurich:20260703T220000
DTSTAMP:20260424T174948
CREATED:20260117T114256Z
LAST-MODIFIED:20260117T114256Z
UID:8108-1783105200-1783116000@www.jungschar-buchs-otelfingen.ch
SUMMARY:Grizzly- 💧🩳🩱(Neuland\, Wüeristrasse 6)
DESCRIPTION:
URL:https://www.jungschar-buchs-otelfingen.ch/event/grizzly-%f0%9f%92%a7%f0%9f%a9%b3%f0%9f%a9%b1neuland-wueeristrasse-6/
END:VEVENT
BEGIN:VEVENT
DTSTART;TZID=Europe/Zurich:20260704T140000
DTEND;TZID=Europe/Zurich:20260704T170000
DTSTAMP:20260424T174948
CREATED:20260106T124808Z
LAST-MODIFIED:20260106T124808Z
UID:8055-1783173600-1783184400@www.jungschar-buchs-otelfingen.ch
SUMMARY:Panda Otelfingen - Der Regenbogenfisch
DESCRIPTION:
URL:https://www.jungschar-buchs-otelfingen.ch/event/panda-otelfingen-der-regenbogenfisch/
END:VEVENT
BEGIN:VEVENT
DTSTART;TZID=Europe/Zurich:20260704T140000
DTEND;TZID=Europe/Zurich:20260704T170000
DTSTAMP:20260424T174948
CREATED:20260117T102416Z
LAST-MODIFIED:20260117T102416Z
UID:8084-1783173600-1783184400@www.jungschar-buchs-otelfingen.ch
SUMMARY:Panda Buchs- Switch and Start (Petermoos\, Drisglerstrasse 3)
DESCRIPTION:
URL:https://www.jungschar-buchs-otelfingen.ch/event/panda-buchs-switch-and-start-petermoos-drisglerstrasse-3/
END:VEVENT
BEGIN:VEVENT
DTSTART;TZID=Europe/Zurich:20260704T140000
DTEND;TZID=Europe/Zurich:20260704T170000
DTSTAMP:20260424T174948
CREATED:20260117T135926Z
LAST-MODIFIED:20260117T135926Z
UID:8128-1783173600-1783184400@www.jungschar-buchs-otelfingen.ch
SUMMARY:Isbärli Otelfingen- Übertritt Nachtmittag (Badesachen mitnehmen)
DESCRIPTION:
URL:https://www.jungschar-buchs-otelfingen.ch/event/isbaerli-otelfingen-uebertritt-nachtmittag-badesachen-mitnehmen/
END:VEVENT
BEGIN:VEVENT
DTSTART;TZID=Europe/Zurich:20260704T140000
DTEND;TZID=Europe/Zurich:20260704T170000
DTSTAMP:20260424T174948
CREATED:20260203T071430Z
LAST-MODIFIED:20260203T071430Z
UID:8523-1783173600-1783184400@www.jungschar-buchs-otelfingen.ch
SUMMARY:Isbärli Buchs- Papaschlumpf (Petermoos\, Drisglerstrasse 3)
DESCRIPTION:
URL:https://www.jungschar-buchs-otelfingen.ch/event/isbaerli-buchs-papaschlumpf-petermoos-drisglerstrasse-3/
END:VEVENT
BEGIN:VEVENT
DTSTART;VALUE=DATE:20260711
DTEND;VALUE=DATE:20260719
DTSTAMP:20260424T174948
CREATED:20260117T103158Z
LAST-MODIFIED:20260117T103158Z
UID:8088-1783728000-1784419199@www.jungschar-buchs-otelfingen.ch
SUMMARY:Isbärli\, Panda (Buchs und Otelfingen) und Grizzly- Sola (Infos folgen)
DESCRIPTION:
URL:https://www.jungschar-buchs-otelfingen.ch/event/isbaerli-panda-buchs-und-otelfingen-und-grizzly-sola-infos-folgen-2/
END:VEVENT
END:VCALENDAR