BEGIN:VCALENDAR
VERSION:2.0
PRODID:-//Jungschar Buchs-Otelfingen - ECPv6.15.20//NONSGML v1.0//EN
CALSCALE:GREGORIAN
METHOD:PUBLISH
X-ORIGINAL-URL:https://www.jungschar-buchs-otelfingen.ch
X-WR-CALDESC:Veranstaltungen für Jungschar Buchs-Otelfingen
REFRESH-INTERVAL;VALUE=DURATION:PT1H
X-Robots-Tag:noindex
X-PUBLISHED-TTL:PT1H
BEGIN:VTIMEZONE
TZID:Europe/Zurich
BEGIN:DAYLIGHT
TZOFFSETFROM:+0100
TZOFFSETTO:+0200
TZNAME:CEST
DTSTART:20230326T010000
END:DAYLIGHT
BEGIN:STANDARD
TZOFFSETFROM:+0200
TZOFFSETTO:+0100
TZNAME:CET
DTSTART:20231029T010000
END:STANDARD
BEGIN:DAYLIGHT
TZOFFSETFROM:+0100
TZOFFSETTO:+0200
TZNAME:CEST
DTSTART:20240331T010000
END:DAYLIGHT
BEGIN:STANDARD
TZOFFSETFROM:+0200
TZOFFSETTO:+0100
TZNAME:CET
DTSTART:20241027T010000
END:STANDARD
BEGIN:DAYLIGHT
TZOFFSETFROM:+0100
TZOFFSETTO:+0200
TZNAME:CEST
DTSTART:20250330T010000
END:DAYLIGHT
BEGIN:STANDARD
TZOFFSETFROM:+0200
TZOFFSETTO:+0100
TZNAME:CET
DTSTART:20251026T010000
END:STANDARD
END:VTIMEZONE
BEGIN:VEVENT
DTSTART;TZID=Europe/Zurich:20240914T140000
DTEND;TZID=Europe/Zurich:20240914T170000
DTSTAMP:20260426T062709
CREATED:20240825T222026Z
LAST-MODIFIED:20240826T104734Z
UID:7608-1726322400-1726333200@www.jungschar-buchs-otelfingen.ch
SUMMARY:Panda Otelfingen - Finschmöker
DESCRIPTION:Wir erleben zusammen was Jakob unternimmt\, um den Segen seines Vaters zu erhalten. Dazu sind wir draussen unterwegs\, dem Wetter angepasste Kleidung und eine Trinkflasche sind also von Vorteil. Treffpunkt ist wie immer beim Sekundarschulhaus Otelfingen.
URL:https://www.jungschar-buchs-otelfingen.ch/event/panda-otelfingen-finschmoeker/
END:VEVENT
BEGIN:VEVENT
DTSTART;VALUE=DATE:20240920
DTEND;VALUE=DATE:20240923
DTSTAMP:20260426T062709
CREATED:20240917T064749Z
LAST-MODIFIED:20240917T064749Z
UID:7641-1726790400-1727049599@www.jungschar-buchs-otelfingen.ch
SUMMARY:Isbärli\, Panda (Buchs und Otelfingen) und Grizzly- Buchserfäscht
DESCRIPTION:
URL:https://www.jungschar-buchs-otelfingen.ch/event/isbaerli-panda-buchs-und-otelfingen-und-grizzly-buchserfaescht/
END:VEVENT
BEGIN:VEVENT
DTSTART;TZID=Europe/Zurich:20240927T190000
DTEND;TZID=Europe/Zurich:20240927T220000
DTSTAMP:20260426T062709
CREATED:20240917T064135Z
LAST-MODIFIED:20240917T064135Z
UID:7631-1727463600-1727474400@www.jungschar-buchs-otelfingen.ch
SUMMARY:Grizzly- Schiff Ahoi!
DESCRIPTION:
URL:https://www.jungschar-buchs-otelfingen.ch/event/grizzly-schiff-ahoi/
END:VEVENT
BEGIN:VEVENT
DTSTART;TZID=Europe/Zurich:20240928T140000
DTEND;TZID=Europe/Zurich:20240928T170000
DTSTAMP:20260426T062709
CREATED:20240926T074540Z
LAST-MODIFIED:20240926T074540Z
UID:7702-1727532000-1727542800@www.jungschar-buchs-otelfingen.ch
SUMMARY:Isbärli Otelfingen- Uf de Spur
DESCRIPTION:
URL:https://www.jungschar-buchs-otelfingen.ch/event/isbaerli-otelfingen-uf-de-spur/
END:VEVENT
BEGIN:VEVENT
DTSTART;TZID=Europe/Zurich:20240928T140000
DTEND;TZID=Europe/Zurich:20240928T170000
DTSTAMP:20260426T062709
CREATED:20240926T112109Z
LAST-MODIFIED:20240926T112109Z
UID:7715-1727532000-1727542800@www.jungschar-buchs-otelfingen.ch
SUMMARY:Panda Buchs- Stei
DESCRIPTION:
URL:https://www.jungschar-buchs-otelfingen.ch/event/panda-buchs-stei/
END:VEVENT
BEGIN:VEVENT
DTSTART;TZID=Europe/Zurich:20240928T140000
DTEND;TZID=Europe/Zurich:20240928T170000
DTSTAMP:20260426T062709
CREATED:20240926T112827Z
LAST-MODIFIED:20240926T112827Z
UID:7723-1727532000-1727542800@www.jungschar-buchs-otelfingen.ch
SUMMARY:Isbärli Buchs- Bibelijagt Schwein
DESCRIPTION:
URL:https://www.jungschar-buchs-otelfingen.ch/event/isbaerli-buchs-bibelijagt-schwein/
END:VEVENT
BEGIN:VEVENT
DTSTART;TZID=Europe/Zurich:20240928T140000
DTEND;TZID=Europe/Zurich:20240928T180000
DTSTAMP:20260426T062709
CREATED:20240926T114332Z
LAST-MODIFIED:20240927T141002Z
UID:7733-1727532000-1727546400@www.jungschar-buchs-otelfingen.ch
SUMMARY:Panda Otelfingen- Uuf und devo (14.00- 17.00 Uhr)
DESCRIPTION:Aufgrund des schlechten Wetters haben wir den ursprünglichen geplanten Besuch im Seilpark abgesagt. Wir treffen uns wie immer um 14.00 beim Sekundarschulhaus Otelfingen. Die Kids brauchen eine dem Wetter angepasste Kleidung (u.a. Regenschutz) und auch eine Trinkflasche ist von Vorteil. Eine Anmeldung ist nicht notwendig.
URL:https://www.jungschar-buchs-otelfingen.ch/event/panda-otelfingen-uuf-und-devo-14-00-18-00-uhr/
END:VEVENT
END:VCALENDAR