BEGIN:VCALENDAR
VERSION:2.0
PRODID:-//Jungschar Buchs-Otelfingen - ECPv6.15.20//NONSGML v1.0//EN
CALSCALE:GREGORIAN
METHOD:PUBLISH
X-WR-CALNAME:Jungschar Buchs-Otelfingen
X-ORIGINAL-URL:https://www.jungschar-buchs-otelfingen.ch
X-WR-CALDESC:Veranstaltungen für Jungschar Buchs-Otelfingen
REFRESH-INTERVAL;VALUE=DURATION:PT1H
X-Robots-Tag:noindex
X-PUBLISHED-TTL:PT1H
BEGIN:VTIMEZONE
TZID:Europe/Zurich
BEGIN:DAYLIGHT
TZOFFSETFROM:+0100
TZOFFSETTO:+0200
TZNAME:CEST
DTSTART:20230326T010000
END:DAYLIGHT
BEGIN:STANDARD
TZOFFSETFROM:+0200
TZOFFSETTO:+0100
TZNAME:CET
DTSTART:20231029T010000
END:STANDARD
BEGIN:DAYLIGHT
TZOFFSETFROM:+0100
TZOFFSETTO:+0200
TZNAME:CEST
DTSTART:20240331T010000
END:DAYLIGHT
BEGIN:STANDARD
TZOFFSETFROM:+0200
TZOFFSETTO:+0100
TZNAME:CET
DTSTART:20241027T010000
END:STANDARD
BEGIN:DAYLIGHT
TZOFFSETFROM:+0100
TZOFFSETTO:+0200
TZNAME:CEST
DTSTART:20250330T010000
END:DAYLIGHT
BEGIN:STANDARD
TZOFFSETFROM:+0200
TZOFFSETTO:+0100
TZNAME:CET
DTSTART:20251026T010000
END:STANDARD
END:VTIMEZONE
BEGIN:VEVENT
DTSTART;TZID=Europe/Zurich:20241025T190000
DTEND;TZID=Europe/Zurich:20241025T220000
DTSTAMP:20260426T044303
CREATED:20240917T064223Z
LAST-MODIFIED:20240917T064223Z
UID:7633-1729882800-1729893600@www.jungschar-buchs-otelfingen.ch
SUMMARY:Grizzly- Gameshow
DESCRIPTION:
URL:https://www.jungschar-buchs-otelfingen.ch/event/grizzly-gameshow/
END:VEVENT
BEGIN:VEVENT
DTSTART;TZID=Europe/Zurich:20241026T120000
DTEND;TZID=Europe/Zurich:20241026T170000
DTSTAMP:20260426T044303
CREATED:20240926T074608Z
LAST-MODIFIED:20240926T080010Z
UID:7704-1729944000-1729962000@www.jungschar-buchs-otelfingen.ch
SUMMARY:Isbärli Otelfingen- In Erinnerungen schwelgen (12:00- 17:00 Uhr\, mit Mitagessen\, ab 15:45 Eltern und Freunde herzlich eingeladen)
DESCRIPTION:
URL:https://www.jungschar-buchs-otelfingen.ch/event/isbaerli-otelfingen-in-erinnerungen-schwelgen-mit-mitagessen-ab-1545-eltern-und-freunde-willkommen/
END:VEVENT
BEGIN:VEVENT
DTSTART;TZID=Europe/Zurich:20241026T140000
DTEND;TZID=Europe/Zurich:20241026T170000
DTSTAMP:20260426T044303
CREATED:20240926T112248Z
LAST-MODIFIED:20240926T112248Z
UID:7717-1729951200-1729962000@www.jungschar-buchs-otelfingen.ch
SUMMARY:Panda Buchs- Findsch hei?
DESCRIPTION:
URL:https://www.jungschar-buchs-otelfingen.ch/event/panda-buchs-findsch-hei/
END:VEVENT
BEGIN:VEVENT
DTSTART;TZID=Europe/Zurich:20241026T140000
DTEND;TZID=Europe/Zurich:20241026T170000
DTSTAMP:20260426T044303
CREATED:20240926T112902Z
LAST-MODIFIED:20240926T112902Z
UID:7725-1729951200-1729962000@www.jungschar-buchs-otelfingen.ch
SUMMARY:Isbärli Buchs- Leiterfisch
DESCRIPTION:
URL:https://www.jungschar-buchs-otelfingen.ch/event/isbaerli-buchs-leiterfisch/
END:VEVENT
BEGIN:VEVENT
DTSTART;TZID=Europe/Zurich:20241026T140000
DTEND;TZID=Europe/Zurich:20241026T170000
DTSTAMP:20260426T044303
CREATED:20240926T114219Z
LAST-MODIFIED:20240926T114219Z
UID:7731-1729951200-1729962000@www.jungschar-buchs-otelfingen.ch
SUMMARY:Panda Otelfingen- Uf de Suechi
DESCRIPTION:
URL:https://www.jungschar-buchs-otelfingen.ch/event/panda-otelfingen-uf-de-suechi-2/
END:VEVENT
END:VCALENDAR