BEGIN:VCALENDAR
VERSION:2.0
PRODID:-//Jungschar Buchs-Otelfingen - ECPv6.15.20//NONSGML v1.0//EN
CALSCALE:GREGORIAN
METHOD:PUBLISH
X-WR-CALNAME:Jungschar Buchs-Otelfingen
X-ORIGINAL-URL:https://www.jungschar-buchs-otelfingen.ch
X-WR-CALDESC:Veranstaltungen für Jungschar Buchs-Otelfingen
REFRESH-INTERVAL;VALUE=DURATION:PT1H
X-Robots-Tag:noindex
X-PUBLISHED-TTL:PT1H
BEGIN:VTIMEZONE
TZID:Europe/Zurich
BEGIN:DAYLIGHT
TZOFFSETFROM:+0100
TZOFFSETTO:+0200
TZNAME:CEST
DTSTART:20240331T010000
END:DAYLIGHT
BEGIN:STANDARD
TZOFFSETFROM:+0200
TZOFFSETTO:+0100
TZNAME:CET
DTSTART:20241027T010000
END:STANDARD
BEGIN:DAYLIGHT
TZOFFSETFROM:+0100
TZOFFSETTO:+0200
TZNAME:CEST
DTSTART:20250330T010000
END:DAYLIGHT
BEGIN:STANDARD
TZOFFSETFROM:+0200
TZOFFSETTO:+0100
TZNAME:CET
DTSTART:20251026T010000
END:STANDARD
BEGIN:DAYLIGHT
TZOFFSETFROM:+0100
TZOFFSETTO:+0200
TZNAME:CEST
DTSTART:20260329T010000
END:DAYLIGHT
BEGIN:STANDARD
TZOFFSETFROM:+0200
TZOFFSETTO:+0100
TZNAME:CET
DTSTART:20261025T010000
END:STANDARD
END:VTIMEZONE
BEGIN:VEVENT
DTSTART;TZID=Europe/Zurich:20250308T140000
DTEND;TZID=Europe/Zurich:20250308T170000
DTSTAMP:20260425T194308
CREATED:20250113T123040Z
LAST-MODIFIED:20250113T123040Z
UID:7786-1741442400-1741453200@www.jungschar-buchs-otelfingen.ch
SUMMARY:Panda Otelfingen- Es wird haarig
DESCRIPTION:
URL:https://www.jungschar-buchs-otelfingen.ch/event/panda-otelfingen-es-wird-haarig/
END:VEVENT
BEGIN:VEVENT
DTSTART;TZID=Europe/Zurich:20250308T140000
DTEND;TZID=Europe/Zurich:20250308T170000
DTSTAMP:20260425T194308
CREATED:20250125T103525Z
LAST-MODIFIED:20250125T103525Z
UID:7834-1741442400-1741453200@www.jungschar-buchs-otelfingen.ch
SUMMARY:Isbärli Otelfingen- Uf de Spur
DESCRIPTION:
URL:https://www.jungschar-buchs-otelfingen.ch/event/isbaerli-otelfingen-uf-de-spur-2/
END:VEVENT
BEGIN:VEVENT
DTSTART;TZID=Europe/Zurich:20250314T183000
DTEND;TZID=Europe/Zurich:20250314T213000
DTSTAMP:20260425T194308
CREATED:20250113T124631Z
LAST-MODIFIED:20250113T124631Z
UID:7806-1741977000-1741987800@www.jungschar-buchs-otelfingen.ch
SUMMARY:Grizzly- Nichts sehen\, nichts hören\, nichts sagen\, (18.30-21.30 Uhr) Neuland\, Wüeristrasse 6
DESCRIPTION:
URL:https://www.jungschar-buchs-otelfingen.ch/event/grizzly-nichts-sehen-nichts-hoeren-nichts-sagen-18-30-21-30-uhr-neuland-wueeristrasse-6/
END:VEVENT
BEGIN:VEVENT
DTSTART;TZID=Europe/Zurich:20250315T140000
DTEND;TZID=Europe/Zurich:20250315T170000
DTSTAMP:20260425T194308
CREATED:20250113T122010Z
LAST-MODIFIED:20250113T122010Z
UID:7776-1742047200-1742058000@www.jungschar-buchs-otelfingen.ch
SUMMARY:Panda Buchs- Hand made (Petermoos\, Drisglerstrasse 3)
DESCRIPTION:
URL:https://www.jungschar-buchs-otelfingen.ch/event/panda-buchs-hand-made-petermoos-drisglerstrasse-3/
END:VEVENT
BEGIN:VEVENT
DTSTART;TZID=Europe/Zurich:20250315T140000
DTEND;TZID=Europe/Zurich:20250315T170000
DTSTAMP:20260425T194308
CREATED:20250113T123111Z
LAST-MODIFIED:20250113T123111Z
UID:7788-1742047200-1742058000@www.jungschar-buchs-otelfingen.ch
SUMMARY:Panda Otelfingen- Es wird fein
DESCRIPTION:
URL:https://www.jungschar-buchs-otelfingen.ch/event/panda-otelfingen-es-wird-fein/
END:VEVENT
BEGIN:VEVENT
DTSTART;TZID=Europe/Zurich:20250315T140000
DTEND;TZID=Europe/Zurich:20250315T170000
DTSTAMP:20260425T194308
CREATED:20250125T103555Z
LAST-MODIFIED:20250125T103555Z
UID:7836-1742047200-1742058000@www.jungschar-buchs-otelfingen.ch
SUMMARY:Isbärli Otelfingen- Kunterbunt
DESCRIPTION:
URL:https://www.jungschar-buchs-otelfingen.ch/event/isbaerli-otelfingen-kunterbunt/
END:VEVENT
BEGIN:VEVENT
DTSTART;TZID=Europe/Zurich:20250315T140000
DTEND;TZID=Europe/Zurich:20250315T170000
DTSTAMP:20260425T194308
CREATED:20250208T134750Z
LAST-MODIFIED:20250208T134750Z
UID:7858-1742047200-1742058000@www.jungschar-buchs-otelfingen.ch
SUMMARY:Isbärli Buchs- Rosa wie Seife (Petermoos\, Drisglerstrasse 3\, Buchs)
DESCRIPTION:
URL:https://www.jungschar-buchs-otelfingen.ch/event/isbaerli-buchs-rosa-wie-seife-petermoos-drisglerstrasse-3-buchs/
END:VEVENT
BEGIN:VEVENT
DTSTART;TZID=Europe/Zurich:20250321T190000
DTEND;TZID=Europe/Zurich:20250321T220000
DTSTAMP:20260425T194308
CREATED:20250113T125528Z
LAST-MODIFIED:20250113T125528Z
UID:7823-1742583600-1742594400@www.jungschar-buchs-otelfingen.ch
SUMMARY:Grizzly- Teen Lifegroup
DESCRIPTION:
URL:https://www.jungschar-buchs-otelfingen.ch/event/grizzly-teen-lifegroup-5/
END:VEVENT
END:VCALENDAR