BEGIN:VCALENDAR
VERSION:2.0
PRODID:-//Jungschar Buchs-Otelfingen - ECPv6.15.20//NONSGML v1.0//EN
CALSCALE:GREGORIAN
METHOD:PUBLISH
X-WR-CALNAME:Jungschar Buchs-Otelfingen
X-ORIGINAL-URL:https://www.jungschar-buchs-otelfingen.ch
X-WR-CALDESC:Veranstaltungen für Jungschar Buchs-Otelfingen
REFRESH-INTERVAL;VALUE=DURATION:PT1H
X-Robots-Tag:noindex
X-PUBLISHED-TTL:PT1H
BEGIN:VTIMEZONE
TZID:Europe/Zurich
BEGIN:DAYLIGHT
TZOFFSETFROM:+0100
TZOFFSETTO:+0200
TZNAME:CEST
DTSTART:20240331T010000
END:DAYLIGHT
BEGIN:STANDARD
TZOFFSETFROM:+0200
TZOFFSETTO:+0100
TZNAME:CET
DTSTART:20241027T010000
END:STANDARD
BEGIN:DAYLIGHT
TZOFFSETFROM:+0100
TZOFFSETTO:+0200
TZNAME:CEST
DTSTART:20250330T010000
END:DAYLIGHT
BEGIN:STANDARD
TZOFFSETFROM:+0200
TZOFFSETTO:+0100
TZNAME:CET
DTSTART:20251026T010000
END:STANDARD
BEGIN:DAYLIGHT
TZOFFSETFROM:+0100
TZOFFSETTO:+0200
TZNAME:CEST
DTSTART:20260329T010000
END:DAYLIGHT
BEGIN:STANDARD
TZOFFSETFROM:+0200
TZOFFSETTO:+0100
TZNAME:CET
DTSTART:20261025T010000
END:STANDARD
END:VTIMEZONE
BEGIN:VEVENT
DTSTART;TZID=Europe/Zurich:20250404T190000
DTEND;TZID=Europe/Zurich:20250404T220000
DTSTAMP:20260425T174930
CREATED:20250113T124737Z
LAST-MODIFIED:20250113T124737Z
UID:7808-1743793200-1743804000@www.jungschar-buchs-otelfingen.ch
SUMMARY:Grizzly- Party in Waikiki (Neuland\, Wüeristrasse 6)
DESCRIPTION:
URL:https://www.jungschar-buchs-otelfingen.ch/event/grizzly-party-in-waikiki-neuland-wueeristrasse-6/
END:VEVENT
BEGIN:VEVENT
DTSTART;TZID=Europe/Zurich:20250405T140000
DTEND;TZID=Europe/Zurich:20250405T170000
DTSTAMP:20260425T174930
CREATED:20250113T121234Z
LAST-MODIFIED:20250113T121241Z
UID:7761-1743861600-1743872400@www.jungschar-buchs-otelfingen.ch
SUMMARY:Panda Buchs- Goldigi Chele (Petermoos\, Drisglerstrasse 3)
DESCRIPTION:
URL:https://www.jungschar-buchs-otelfingen.ch/event/panda-buchs-goldigi-chele-petermoos-drisglerstrasse-3/
END:VEVENT
BEGIN:VEVENT
DTSTART;TZID=Europe/Zurich:20250405T140000
DTEND;TZID=Europe/Zurich:20250405T170000
DTSTAMP:20260425T174930
CREATED:20250125T103639Z
LAST-MODIFIED:20250125T103639Z
UID:7838-1743861600-1743872400@www.jungschar-buchs-otelfingen.ch
SUMMARY:Isbärli Otelfingen- Ausflug mit Alpakas
DESCRIPTION:
URL:https://www.jungschar-buchs-otelfingen.ch/event/isbaerli-otelfingen-ausflug-mit-alpakas/
END:VEVENT
BEGIN:VEVENT
DTSTART;TZID=Europe/Zurich:20250405T140000
DTEND;TZID=Europe/Zurich:20250405T170000
DTSTAMP:20260425T174930
CREATED:20250208T134832Z
LAST-MODIFIED:20250208T134832Z
UID:7860-1743861600-1743872400@www.jungschar-buchs-otelfingen.ch
SUMMARY:Isbärli Buchs- Beige wie Alpakas (Petermoos\, Drisglerstrasse 3\, Buchs)
DESCRIPTION:
URL:https://www.jungschar-buchs-otelfingen.ch/event/isbaerli-buchs-beige-wie-alpakas-petermoos-drisglerstrasse-3-buchs/
END:VEVENT
BEGIN:VEVENT
DTSTART;TZID=Europe/Zurich:20250405T200000
DTEND;TZID=Europe/Zurich:20250405T230000
DTSTAMP:20260425T174930
CREATED:20250113T123303Z
LAST-MODIFIED:20250402T144812Z
UID:7790-1743883200-1743894000@www.jungschar-buchs-otelfingen.ch
SUMMARY:Panda Otelfingen- Es wird spannend (am Abend)- Infos folgen
DESCRIPTION:Wir treffen uns diesen Samstag von 20.00 bis 23.00. Der Treffpunkt ist wie immer beim Sekundarschulhaus Otelfingen. Wir sind draussen\, daher sollten sich die Kinder genügend warm anziehen. Eine Trinkflasche ist von Vorteil und eine Taschenlampe kann auch mitgenommen werden.
URL:https://www.jungschar-buchs-otelfingen.ch/event/panda-otelfingen-es-wird-spannend-am-abend-infos-folgen/
END:VEVENT
BEGIN:VEVENT
DTSTART;VALUE=DATE:20250410
DTEND;VALUE=DATE:20250411
DTSTAMP:20260425T174930
CREATED:20250125T103721Z
LAST-MODIFIED:20250125T103721Z
UID:7840-1744243200-1744329599@www.jungschar-buchs-otelfingen.ch
SUMMARY:Isbärli Otelfingen- Überraschungsabend (Infos folgen)
DESCRIPTION:
URL:https://www.jungschar-buchs-otelfingen.ch/event/isbaerli-otelfingen-ueberraschungsabend-infos-folgen/
END:VEVENT
BEGIN:VEVENT
DTSTART;TZID=Europe/Zurich:20250411T190000
DTEND;TZID=Europe/Zurich:20250411T220000
DTSTAMP:20260425T174930
CREATED:20250113T124834Z
LAST-MODIFIED:20250113T124834Z
UID:7810-1744398000-1744408800@www.jungschar-buchs-otelfingen.ch
SUMMARY:Grizzly- Stadt Land Action (Neuland\, Wüeristrasse 6)
DESCRIPTION:
URL:https://www.jungschar-buchs-otelfingen.ch/event/grizzly-stadt-land-action-neuland-wueeristrasse-6/
END:VEVENT
BEGIN:VEVENT
DTSTART;TZID=Europe/Zurich:20250412T140000
DTEND;TZID=Europe/Zurich:20250412T170000
DTSTAMP:20260425T174930
CREATED:20250113T122058Z
LAST-MODIFIED:20250113T122058Z
UID:7778-1744466400-1744477200@www.jungschar-buchs-otelfingen.ch
SUMMARY:Panda Buchs-  Höch hinus (Petermoos\, Drisglerstrasse 3)
DESCRIPTION:
URL:https://www.jungschar-buchs-otelfingen.ch/event/panda-buchs-hoech-hinus-petermoos-drisglerstrasse-3/
END:VEVENT
BEGIN:VEVENT
DTSTART;TZID=Europe/Zurich:20250412T140000
DTEND;TZID=Europe/Zurich:20250412T170000
DTSTAMP:20260425T174930
CREATED:20250113T123341Z
LAST-MODIFIED:20250113T123341Z
UID:7792-1744466400-1744477200@www.jungschar-buchs-otelfingen.ch
SUMMARY:Panda Otelfingen- Es wird gsuecht
DESCRIPTION:
URL:https://www.jungschar-buchs-otelfingen.ch/event/panda-otelfingen-es-wird-gsuecht/
END:VEVENT
BEGIN:VEVENT
DTSTART;TZID=Europe/Zurich:20250412T140000
DTEND;TZID=Europe/Zurich:20250412T170000
DTSTAMP:20260425T174930
CREATED:20250208T134906Z
LAST-MODIFIED:20250208T134906Z
UID:7862-1744466400-1744477200@www.jungschar-buchs-otelfingen.ch
SUMMARY:Isbärli Buchs- Rot wie Bingo (Petermoos\, Drisglerstrasse 3\, Buchs)
DESCRIPTION:
URL:https://www.jungschar-buchs-otelfingen.ch/event/isbaerli-buchs-rot-wie-bingo-petermoos-drisglerstrasse-3-buchs/
END:VEVENT
END:VCALENDAR