BEGIN:VCALENDAR
VERSION:2.0
PRODID:-//Jungschar Buchs-Otelfingen - ECPv6.15.20//NONSGML v1.0//EN
CALSCALE:GREGORIAN
METHOD:PUBLISH
X-ORIGINAL-URL:https://www.jungschar-buchs-otelfingen.ch
X-WR-CALDESC:Veranstaltungen für Jungschar Buchs-Otelfingen
REFRESH-INTERVAL;VALUE=DURATION:PT1H
X-Robots-Tag:noindex
X-PUBLISHED-TTL:PT1H
BEGIN:VTIMEZONE
TZID:Europe/Zurich
BEGIN:DAYLIGHT
TZOFFSETFROM:+0100
TZOFFSETTO:+0200
TZNAME:CEST
DTSTART:20240331T010000
END:DAYLIGHT
BEGIN:STANDARD
TZOFFSETFROM:+0200
TZOFFSETTO:+0100
TZNAME:CET
DTSTART:20241027T010000
END:STANDARD
BEGIN:DAYLIGHT
TZOFFSETFROM:+0100
TZOFFSETTO:+0200
TZNAME:CEST
DTSTART:20250330T010000
END:DAYLIGHT
BEGIN:STANDARD
TZOFFSETFROM:+0200
TZOFFSETTO:+0100
TZNAME:CET
DTSTART:20251026T010000
END:STANDARD
BEGIN:DAYLIGHT
TZOFFSETFROM:+0100
TZOFFSETTO:+0200
TZNAME:CEST
DTSTART:20260329T010000
END:DAYLIGHT
BEGIN:STANDARD
TZOFFSETFROM:+0200
TZOFFSETTO:+0100
TZNAME:CET
DTSTART:20261025T010000
END:STANDARD
END:VTIMEZONE
BEGIN:VEVENT
DTSTART;VALUE=DATE:20250607
DTEND;VALUE=DATE:20250610
DTSTAMP:20260425T133656
CREATED:20250113T122749Z
LAST-MODIFIED:20250113T122749Z
UID:7782-1749254400-1749513599@www.jungschar-buchs-otelfingen.ch
SUMMARY:Isbärli\, Panda (Buchs und Otelfingen) und Grizzly- Regipfila (Infos folgen)
DESCRIPTION:
URL:https://www.jungschar-buchs-otelfingen.ch/event/isbaerli-panda-buchs-und-otelfingen-und-grizzly-regipfila-infos-folgen/
END:VEVENT
BEGIN:VEVENT
DTSTART;TZID=Europe/Zurich:20250613T190000
DTEND;TZID=Europe/Zurich:20250613T220000
DTSTAMP:20260425T133656
CREATED:20250113T125629Z
LAST-MODIFIED:20250113T125629Z
UID:7827-1749841200-1749852000@www.jungschar-buchs-otelfingen.ch
SUMMARY:Grizzly- Teen Lifegroup
DESCRIPTION:
URL:https://www.jungschar-buchs-otelfingen.ch/event/grizzly-teen-lifegroup-7/
END:VEVENT
BEGIN:VEVENT
DTSTART;TZID=Europe/Zurich:20250620T190000
DTEND;TZID=Europe/Zurich:20250620T220000
DTSTAMP:20260425T133656
CREATED:20250113T125207Z
LAST-MODIFIED:20250113T125207Z
UID:7817-1750446000-1750456800@www.jungschar-buchs-otelfingen.ch
SUMMARY:Grizzly- Forrest Quest (Petermoos\, Drisglerstrasse 3)
DESCRIPTION:
URL:https://www.jungschar-buchs-otelfingen.ch/event/grizzly-forrest-quest-petermoos-drisglerstrasse-3/
END:VEVENT
BEGIN:VEVENT
DTSTART;TZID=Europe/Zurich:20250621T140000
DTEND;TZID=Europe/Zurich:20250621T170000
DTSTAMP:20260425T133656
CREATED:20250113T121911Z
LAST-MODIFIED:20250113T121911Z
UID:7774-1750514400-1750525200@www.jungschar-buchs-otelfingen.ch
SUMMARY:Panda Buchs- es flüsst... (Neuland\, Wüeristrasse 6)
DESCRIPTION:
URL:https://www.jungschar-buchs-otelfingen.ch/event/panda-buchs-es-fluesst-neuland-wueeristrasse-6/
END:VEVENT
BEGIN:VEVENT
DTSTART;TZID=Europe/Zurich:20250621T140000
DTEND;TZID=Europe/Zurich:20250621T170000
DTSTAMP:20260425T133656
CREATED:20250113T123624Z
LAST-MODIFIED:20250113T123926Z
UID:7798-1750514400-1750525200@www.jungschar-buchs-otelfingen.ch
SUMMARY:Panda Otelfingen- Es wird holzig
DESCRIPTION:
URL:https://www.jungschar-buchs-otelfingen.ch/event/panda-otelfingen-es-wird-holzig/
END:VEVENT
BEGIN:VEVENT
DTSTART;TZID=Europe/Zurich:20250621T140000
DTEND;TZID=Europe/Zurich:20250621T170000
DTSTAMP:20260425T133656
CREATED:20250125T104039Z
LAST-MODIFIED:20250125T104039Z
UID:7846-1750514400-1750525200@www.jungschar-buchs-otelfingen.ch
SUMMARY:Isbärli Otelfingen- Füürle\, bache\, Chnote mache
DESCRIPTION:
URL:https://www.jungschar-buchs-otelfingen.ch/event/isbaerli-otelfingen-fueuerle-bache-chnote-mache/
END:VEVENT
BEGIN:VEVENT
DTSTART;TZID=Europe/Zurich:20250621T140000
DTEND;TZID=Europe/Zurich:20250621T170000
DTSTAMP:20260425T133656
CREATED:20250208T134627Z
LAST-MODIFIED:20250208T135433Z
UID:7856-1750514400-1750525200@www.jungschar-buchs-otelfingen.ch
SUMMARY:Isbärli Buchs- Blau wie Wasser (Neuland\, Wüeristrasse 6\, Buchs)
DESCRIPTION:
URL:https://www.jungschar-buchs-otelfingen.ch/event/isbaerli-buchs-blau-wie-wasser-neuland-wueeristrasse-6/
END:VEVENT
END:VCALENDAR